



BEGIN:VCALENDAR
VERSION:2.0
PRODID:-//Union Musicale des Sans-Souci - ECPv6.15.20//NONSGML v1.0//EN
CALSCALE:GREGORIAN
METHOD:PUBLISH
X-ORIGINAL-URL:https://sans-souci11.fr
X-WR-CALDESC:Évènements pour Union Musicale des Sans-Souci
REFRESH-INTERVAL;VALUE=DURATION:PT1H
X-Robots-Tag:noindex
X-PUBLISHED-TTL:PT1H
BEGIN:VTIMEZONE
TZID:Europe/Paris
BEGIN:DAYLIGHT
TZOFFSETFROM:+0100
TZOFFSETTO:+0200
TZNAME:CEST
DTSTART:20230326T010000
END:DAYLIGHT
BEGIN:STANDARD
TZOFFSETFROM:+0200
TZOFFSETTO:+0100
TZNAME:CET
DTSTART:20231029T010000
END:STANDARD
BEGIN:DAYLIGHT
TZOFFSETFROM:+0100
TZOFFSETTO:+0200
TZNAME:CEST
DTSTART:20240331T010000
END:DAYLIGHT
BEGIN:STANDARD
TZOFFSETFROM:+0200
TZOFFSETTO:+0100
TZNAME:CET
DTSTART:20241027T010000
END:STANDARD
BEGIN:DAYLIGHT
TZOFFSETFROM:+0100
TZOFFSETTO:+0200
TZNAME:CEST
DTSTART:20250330T010000
END:DAYLIGHT
BEGIN:STANDARD
TZOFFSETFROM:+0200
TZOFFSETTO:+0100
TZNAME:CET
DTSTART:20251026T010000
END:STANDARD
BEGIN:DAYLIGHT
TZOFFSETFROM:+0100
TZOFFSETTO:+0200
TZNAME:CEST
DTSTART:20260329T010000
END:DAYLIGHT
BEGIN:STANDARD
TZOFFSETFROM:+0200
TZOFFSETTO:+0100
TZNAME:CET
DTSTART:20261025T010000
END:STANDARD
END:VTIMEZONE
BEGIN:VEVENT
DTSTART;TZID=Europe/Paris:20251115T170000
DTEND;TZID=Europe/Paris:20251115T190000
DTSTAMP:20260424T173540
CREATED:20251026T153521Z
LAST-MODIFIED:20251026T154536Z
UID:886-1763226000-1763233200@sans-souci11.fr
SUMMARY:Concert de la Sainte-Cécile le Samedi 15 novembre
DESCRIPTION:Rendez-vous à la Halle aux Grains pour célébrer la Sainte-Cécile !\n\n\n\nLe Samedi 15 novembre prochain à 17h00\, l’Orchestre d’Harmonie des Sans-Souci\, dirigé par Nicolas Dupeyron\, présentera un programme sur le thème de la Musique Celtique. Embarquez avec nous pour des terres légendaires et de mers de brumes ! \n\n\n\nLe Big Band de l’Ecole de Musique Intercommunale\, dirigé par Georges Torsiello\, ouvrira le spectacle\, avec des styles variés allant du Jazz au Funk en passant par le Blues et le Latin Jazz. \nLe concert sera suivi d’un apéritif et du traditionnel repas\, réservé aux membres et leurs invités. \nInscrivez-vous en remplissant ce Formulaire d’inscription :   \n  \n\n\n\n\nhttps://sans-souci11.fr/wp-content/uploads/2025/10/Video_Paysage_SansSouci_SteCecile2025.mp4\nAffiche du Concert de la Sainte Cécile 2025
URL:https://sans-souci11.fr/event/concert-de-la-sainte-cecile-le-samedi-15-novembre/
ORGANIZER;CN="Union Musicale des Sans-souci":MAILTO:secretaire.sanssouci11@gmail.com
END:VEVENT
BEGIN:VEVENT
DTSTART;TZID=Europe/Paris:20251111T090000
DTEND;TZID=Europe/Paris:20251111T100000
DTSTAMP:20260424T173540
CREATED:20241027T142606Z
LAST-MODIFIED:20251026T151207Z
UID:79-1762851600-1762855200@sans-souci11.fr
SUMMARY:Commémoration de l'Armistice de 1918 à Castelnaudary
DESCRIPTION:La Batterie-Fanfare des Sans-Souci menée par Georges Dupuy animera en musique les cortèges de la Mairie aux Monuments aux Morts\, ainsi que la cérémonie de commémoration de l’Armistice de 1918\, en présence des officiels\, des représentants du 4e Régiment Etranger. \nEn espérant que le temps sera clément !\nCette année\, le Monument aux Morts de Castelnaudary fête ses 100 ans !\nL’occasion de raviver la mémoire de Jean-Baptiste Malacan\, concepteur du monument\, mais aussi comme chaque année\, des Poilus tombés lors de la Première Guerre mondiale\, mais aussi des Soldats morts lors de la Deuxième Guerre Mondiale\, de la Guerre d’Algérie\, et de la Guerre d’Indochine.\nPlus de détails sur la page de l’Office de Tourimse de Casltenaudary.
URL:https://sans-souci11.fr/event/commemorations-de-larmistice-de-1918-a-castelnaudary/
LOCATION:Castelnaudary\, Place de la République\, Castelnaudary\, Aude\, 11400\, France
CATEGORIES:Commémorations
END:VEVENT
BEGIN:VEVENT
DTSTART;TZID=Europe/Paris:20251109T110000
DTEND;TZID=Europe/Paris:20251109T123000
DTSTAMP:20260424T173540
CREATED:20241027T141620Z
LAST-MODIFIED:20251026T145657Z
UID:72-1762686000-1762691400@sans-souci11.fr
SUMMARY:Commémorations de l'Armistice de 1918 à Saint-Papoul
DESCRIPTION:Les Commémorations de l’Armistice de 1918 à Saint-Papoul ont lieu le week-end qui précède le 11 novembre\, comme chaque année.\nDans le cadre de la fête à Saint-Papoul\, la Batterie-Fanfare des Sans-Souci menée par Michaël Tistounet animeront les cortèges les receuillements aux Monuments aux Morts ainsi que l’apéritif précédant le repas de fête du Village à la salle des Fêtes.\nPour plus d’infos sur la fête\, rendez-vous sur le site de la ville: Les évènements annuels.
URL:https://sans-souci11.fr/event/commemorations-de-larmistice-de-1918-a-saint-papoul/
LOCATION:Saint-Papoul\, Place Monseigneur de Langle\, Saint-Papoul\, Aude\, 11400\, France
CATEGORIES:Commémorations
END:VEVENT
BEGIN:VEVENT
DTSTART;TZID=Europe/Paris:20250830T213000
DTEND;TZID=Europe/Paris:20250830T233000
DTSTAMP:20260424T173540
CREATED:20250705T113808Z
LAST-MODIFIED:20250705T113808Z
UID:866-1756589400-1756596600@sans-souci11.fr
SUMMARY:Concert StormQuestra sur l'île de Sournies à Limoux
DESCRIPTION:A peine repus de notre bonheur musical partagé avec le duo Storm en avril\, nous repartons sur scène à Limoux dans le cadre du festival d’été à Limoux.\nC’est dans ce bel écrin de verdure sur l’île de Sourniès que nous retrouverons Sébastien Gisbert et Guilhem Desq pour un concert en plein air.\nL’air embaumé de senteurs fruitées de cette fin d’été se mêlera aux notes musicales envoûtantes du duo\, issues des 4 coins du monde et magnifiées par la puissance de l’orchestre.
URL:https://sans-souci11.fr/event/concert-stormquestra-sur-lile-de-sournies-a-limoux/
ORGANIZER;CN="Communaut%C3%A9 de Communes du Limouxin":MAILTO:emailaccueil@cc-limouxin.fr
END:VEVENT
BEGIN:VEVENT
DTSTART;TZID=Europe/Paris:20250713T180000
DTEND;TZID=Europe/Paris:20250713T193000
DTSTAMP:20260424T173540
CREATED:20250705T093249Z
LAST-MODIFIED:20250705T111139Z
UID:852-1752429600-1752435000@sans-souci11.fr
SUMMARY:Commémorations de la Fête Nationale à Castelnaudary
DESCRIPTION:Fidèle au poste\, la Batterie Fanfare des Sans-Souci accompagnera en musique la Cérémonie du 13 juillet sur la Place de la République.\nLa prise d’armes et le défilé en compagnie des légionnaires du 4e Régiment Etranger de Castelnaudary\, et débuteront vers 18h.
URL:https://sans-souci11.fr/event/commemorations-de-la-fete-nationale-a-castelnaudary/
LOCATION:place de la république Castelnaudary\, place de la République\, Castelnaudary\, 11400\, France
END:VEVENT
BEGIN:VEVENT
DTSTART;TZID=Europe/Paris:20250705T210000
DTEND;TZID=Europe/Paris:20250705T230000
DTSTAMP:20260424T173540
CREATED:20241128T120825Z
LAST-MODIFIED:20250705T084634Z
UID:792-1751749200-1751756400@sans-souci11.fr
SUMMARY:Concert des 30 ans de la chorale La Laouseto del Mas avec les Sans-Souci
DESCRIPTION:L’anniversaire de la chorale était prévu en 2024 mais la malchance a frappé à plusieurs reprises\, contraignant à annuler le concert ! \nTout d’abord la pluie est tombée exceptionnellement ce jour-là\, et les élections legislatives organisées suite à la dissolution nous ont privé de la salle des fêtes comme solution de repli. \nCette année\, ce seront donc 31 ans que la chorale fêtera\, mais toujours avec bonne humeur et avec la présence de ses anciens chefs\, Antoine Lopez\, Judith Frérot\,  Frédérique Amman\, et bien entendu leur chef actuel\, Stéphan Lhuillier. \nLa chorale sera également renforcée par les chorales de Trèbes\, Saint-Papoul et Lasbordes\, pour former un ensemble de plus de 60 choristes. \nAprès une introduction a capella sous le signe du gospel\, l’orchestre d’harmonie des Sans-souci accompagnera la chorale pour reprendre les célèbres musiques de film d’Enio Morricone\, l’Envie de Johnny Halliday et bien d’autres. \nLe concert aura lieu sur la plac du village\, mais en cas de pluie le repli est possible dans la salle des fêtes\, à moins bien sûr qu’une nouvelle élection surprise vienne s’inviter au dernier moment\, mais là alors il faudra enquêter sur un possible complot. \nConcert des 30 ans de la Chorale La Laouseto
URL:https://sans-souci11.fr/event/concert-des-30-ans-de-la-chorale-la-laouseto-del-mas-avec-les-sans-souci/
LOCATION:Mas saintes puelles: Place\, Place Antoine Monier\, Mas-Saintes-Puelles\, 11400\, France
CATEGORIES:Concerts
ATTACH;FMTTYPE=image/jpeg:https://sans-souci11.fr/wp-content/uploads/2024/11/image-30ans-laouseto-2025.jpg
END:VEVENT
BEGIN:VEVENT
DTSTART;TZID=Europe/Paris:20250406T170000
DTEND;TZID=Europe/Paris:20250406T190000
DTSTAMP:20260424T173540
CREATED:20241127T150446Z
LAST-MODIFIED:20250302T133847Z
UID:783-1743958800-1743966000@sans-souci11.fr
SUMMARY:Storm'Questra 2e Session: Rencontre poétique entre l'Harmonie et la vielle à roue électrique
DESCRIPTION:Dimanche 6 Avril 2025  – 17h00 – Halle aux Grains\nLe duo Storm\n« Storm » est un duo formé par le batteur-percussioniste Sébastien Gisbert et le joueur de vielle à roue Guilhem Desq\, tous deux originaires de Toulouse. \nCe dernier a « électrifié » cet instrument oublié pour en faire surgir des sonorités électriques étranges et envoutantes. \nVéritables alchimistes du son\, créateurs expérimentés\, ils fusionnent leurs univers depuis plusieurs années déjà. Cette fois la tempête (Storm en anglais) va s’abattre sur Castelnaudary\, avec l’aide des Sans-Souci\, pour le spectacle STORM’questra ! \nStorm’Questra: la rencontre avec l’orchestre d’Harmonie\nC’est à Nicolas Gardel\, trompettiste de jazz de renommée mondiale\, et originaire de Toulouse\, que l’on doit les arrangements basés sur des compositions de Storm\, et qui permettent de réunir sur scène le duo et notre orchestre d’harmonie. \nLa rencontre poétique et électrisante entre la vielle à roue électrique\, un\npercussionniste\, et un orchestre de 40 musiciens va vous plonger dans un univers étonnant\,\nvéritable fusion de la musique traditionnelle et électro\, mise en valeur par une scénographie et des jeux de lumières conçus spécialement pour ce spectacle. \n  \nTarif:\nRendez-vous sur HelloAsso pour réserver vos places!  \n\n12 €\n6€ pour les 12 – 17 ans\, lycéens et étudiants* (Possibilité de payer via le Pass Culture)\nExonérés: -12 ans\, bénéficiaires des minimas sociaux*\, élèves des l’Ecole de Musique de la CCCLA.\nPour les jeunes\, il est possible d’utiliser le Pass Culture pour  réserver leur billet\, en suivant ce lien.\n\n*: Sur présentation de jusitificatif
URL:https://sans-souci11.fr/event/stormquestra-session2-rencontre-poetique-entre-lharmonie-et-la-vielle-a-roue/
LOCATION:Halle aux Grains\, Place de la République\, Castelnaudary\, Aude\, 11400\, France
CATEGORIES:Concerts
ATTACH;FMTTYPE=image/webp:https://sans-souci11.fr/wp-content/uploads/2024/11/STORM-e1732552317149.webp
ORGANIZER;CN="Union Musicale des Sans-souci":MAILTO:secretaire.sanssouci11@gmail.com
END:VEVENT
BEGIN:VEVENT
DTSTART;TZID=Europe/Paris:20250405T210000
DTEND;TZID=Europe/Paris:20250405T230000
DTSTAMP:20260424T173540
CREATED:20241125T163210Z
LAST-MODIFIED:20250302T133821Z
UID:771-1743886800-1743894000@sans-souci11.fr
SUMMARY:Storm'Questra 1ere session: Rencontre poétique entre l'Harmonie et la vielle à roue électrique
DESCRIPTION:5 Avril 2025  – 21h00 – Halle aux Grains\nLe duo Storm\n« Storm » est un duo formé par le batteur-percussioniste Sébastien Gisbert et le joueur de vielle à roue Guilhem Desq\, tous deux originaires de Toulouse. \nCe dernier a « électrifié » cet instrument oublié pour en faire surgir des sonorités électriques étranges et envoutantes. \nVéritables alchimistes du son\, créateurs expérimentés\, ils fusionnent leurs univers depuis plusieurs années déjà. Cette fois la tempête (Storm en anglais) va s’abattre sur Castelnaudary\, avec l’aide des Sans-Souci\, pour le spectacle STORM’questra ! \nStorm’Questra: la rencontre avec l’orchestre d’Harmonie\nC’est à Nicolas Gardel\, trompettiste de jazz de renommée mondiale\, et originaire de Toulouse\, que l’on doit les arrangements basés sur des compositions de Storm\, et qui permettent de réunir sur scène le duo et notre orchestre d’harmonie. \nLa rencontre poétique et électrisante entre la vielle à roue électrique\, un\npercussionniste\, et un orchestre de 40 musiciens va vous plonger dans un univers étonnant\,\nvéritable fusion de la musique traditionnelle et électro\, mise en valeur par une scénographie et des jeux de lumières conçus spécialement pour ce spectacle. \nTarif:\nRendez-vous sur HelloAsso pour réserver vos places!  \n\n12 €\n6€ pour les 12 – 17 ans\, lycéens et étudiants* (Possibilité de payer via le Pass Culture)\nExonérés: -12 ans\, bénéficiaires des minimas sociaux*\, élèves des l’Ecole de Musique de la CCCLA.\nPour les jeunes\, il est possible d’utiliser le Pass Culture pour  réserver leur billet\, en suivant ce lien.\n\n*: Sur présentation de jusitificatif
URL:https://sans-souci11.fr/event/stormquestra-session1-rencontre-poetique-entre-lharmonie-et-la-vielle-a-roues-electrique/
LOCATION:Halle aux Grains\, Place de la République\, Castelnaudary\, Aude\, 11400\, France
CATEGORIES:Concerts
ATTACH;FMTTYPE=image/webp:https://sans-souci11.fr/wp-content/uploads/2024/11/STORM-e1732552317149.webp
ORGANIZER;CN="Union Musicale des Sans-souci":MAILTO:secretaire.sanssouci11@gmail.com
END:VEVENT
BEGIN:VEVENT
DTSTART;TZID=Europe/Paris:20250111T170000
DTEND;TZID=Europe/Paris:20250111T190000
DTSTAMP:20260424T173540
CREATED:20241112T082528Z
LAST-MODIFIED:20241218T134811Z
UID:548-1736614800-1736622000@sans-souci11.fr
SUMMARY:Concert du Nouvel An 2025: RDV le 11 janvier !
DESCRIPTION:Rendez-vous le Samedi 11 janvier pour retrouver notre traditionnel Concert du Nouvel An\, à 17h  ! \nCette Année\, nous présentons une thématique forte autour des musiques originaires ou d’inspiration asiatique\, de Chine\, du Japon\, du Vietnam. \nNote: Attention\, il n’y aura pas de concert à 21h.
URL:https://sans-souci11.fr/event/concerts-du-nouvel-an/
LOCATION:Halle aux Grains\, Place de la République\, Castelnaudary\, Aude\, 11400\, France
CATEGORIES:Concerts
ATTACH;FMTTYPE=image/jpeg:https://sans-souci11.fr/wp-content/uploads/2024/11/Concert-du-Nouvel-An-2025-800-x-450-px-1.jpg
ORGANIZER;CN="Union Musicale des Sans-souci":MAILTO:secretaire.sanssouci11@gmail.com
END:VEVENT
BEGIN:VEVENT
DTSTART;TZID=Europe/Paris:20241214T180000
DTEND;TZID=Europe/Paris:20241214T200000
DTSTAMP:20260424T173540
CREATED:20241125T165352Z
LAST-MODIFIED:20241210T111302Z
UID:779-1734199200-1734206400@sans-souci11.fr
SUMMARY:Concert à Saissac le 14 décembre
DESCRIPTION:Là-haut sur la montagne !\nRendez-vous à la salle des fêtes de Saissac le 14 décembre à 18h00 pour un concert de l’Orchestre d’Harmonie des Sans-Souci. \nCe sera l’occasion de découvrir ce magnifique village et son château si vous ne le connaissez pas déjà ! \nUn grand merci au Foyer rural de Saissac pour leur invitation et l’organisation de ce concert !
URL:https://sans-souci11.fr/event/concert-a-saissac-le-14-decembre/
LOCATION:Saissac\, Centre culturel de Saissac\, Saissac\, 11310\, France
CATEGORIES:Concerts
ATTACH;FMTTYPE=image/jpeg:https://sans-souci11.fr/wp-content/uploads/2024/11/Concert-Saissac-decembre-2024-800-x-450-px.jpg
END:VEVENT
BEGIN:VEVENT
DTSTART;TZID=Europe/Paris:20241116T170000
DTEND;TZID=Europe/Paris:20241116T190000
DTSTAMP:20260424T173540
CREATED:20241027T140556Z
LAST-MODIFIED:20241112T080529Z
UID:65-1731776400-1731783600@sans-souci11.fr
SUMMARY:Concert de la Sainte-Cécile le 16 novembre
DESCRIPTION:Rendez-vous à la Halle aux Grains de Castelnaudary\n\n\nLe 16 novembre prochain\, l’orchestre d’harmonie des Sans-Souci\, dirigé par Nicolas Dupeyron\, présentera un programme sur une thématique variée de musiques chinoise\, japonaise\, vénézuélienne\, italienne. De quoi voyager aux quatre coins du monde en restant à Castelnaudary. \n\nL’orchestre d’harmonie les « Petits Soucis » de l’Ecole de Musique Intercommunale\, dirigé par Antoine Lopez\, ouvrira le spectacle. \n\nUn grand merci au comité de Jumelage de Marradi\, qui apporte son soutien financier à ce spectacle ! \n\n\n\n\n\n  
URL:https://sans-souci11.fr/event/concert-de-la-sainte-cecile/
LOCATION:Halle aux Grains\, Place de la République\, Castelnaudary\, Aude\, 11400\, France
CATEGORIES:Concerts
ATTACH;FMTTYPE=image/png:https://sans-souci11.fr/wp-content/uploads/2024/10/Affiche_SteCecile_2024_carre_bleu.png
ORGANIZER;CN="Union Musicale des Sans-souci":MAILTO:secretaire.sanssouci11@gmail.com
END:VEVENT
END:VCALENDAR